BEGIN:VCALENDAR
VERSION:2.0
PRODID:-//INVALSI Servizio Statistico - ECPv6.0.12//NONSGML v1.0//EN
CALSCALE:GREGORIAN
METHOD:PUBLISH
X-WR-CALNAME:INVALSI Servizio Statistico
X-ORIGINAL-URL:https://serviziostatistico.invalsi.it/en
X-WR-CALDESC:Events for INVALSI Servizio Statistico
REFRESH-INTERVAL;VALUE=DURATION:PT1H
X-Robots-Tag:noindex
X-PUBLISHED-TTL:PT1H
BEGIN:VTIMEZONE
TZID:Europe/Helsinki
BEGIN:DAYLIGHT
TZOFFSETFROM:+0200
TZOFFSETTO:+0300
TZNAME:EEST
DTSTART:20260329T010000
END:DAYLIGHT
BEGIN:STANDARD
TZOFFSETFROM:+0300
TZOFFSETTO:+0200
TZNAME:EET
DTSTART:20261025T010000
END:STANDARD
END:VTIMEZONE
BEGIN:VEVENT
DTSTART;TZID=Europe/Helsinki:20260130T000000
DTEND;TZID=Europe/Helsinki:20260430T235959
DTSTAMP:20260421T163116
CREATED:20250929T092300Z
LAST-MODIFIED:20260116T103308Z
UID:13231-1769731200-1777593599@serviziostatistico.invalsi.it
SUMMARY:EDIZIONE 14 - I DATI INVALSI PER UN USO INFORMATIVO\, FORMATIVO E PER IL MIGLIORAMENTO
DESCRIPTION:Introduzione\n\n\n\nGli esiti delle prove INVALSI offrono alle scuole un patrimonio informativo molto ricco ed articolato che\, se ben utilizzati\, possono offrire spunti essenziali di riflessione\, in ottica di miglioramento\, a livello didattico\, organizzativo e di gestione della governance e\, quindi\, con ricadute dalla singola classe all’intero istituto scolastico\, grazie al coinvolgimento dell’intera comunità scolastica (consiglio di classe\, collegio docenti\, dipartimenti disciplinari\, consiglio d’istituto\, ecc.). \n\n\n\n\n\n\n\nObiettivi e risultati di apprendimento\n\n\n\nIl corso vuole fornire ai/alle partecipanti nozioni teoriche e strumenti interpretativi al fine di usare i dati derivanti delle prove INVALSI in ottica informativa\, formativa e di miglioramento. Nello specifico\, al termine del percorso formativo\, i/le partecipanti saranno in grado di: \n\n\n\n– Conoscere le finalità\, le caratteristiche e la struttura delle prove INVALSI; \n\n\n\n– Leggere e interpretare i dati delle prove INVALSI a livello di classe e scuola; \n\n\n\n– Individuare le informazioni di interesse nell’attuale pagina di restituzione dei dati; \n\n\n\n– Rifletter sulle azioni di miglioramento a livello di scuola a partire dagli esiti delle prove INVALSI; \n\n\n\n– Impostare azioni di comunicazione efficace dei dati delle prove INVALSI all’interno della scuola. \n\n\n\n\n\n\n\nDestinatari\n\n\n\nIl corso è rivolto principalmente ai/alle Referenti INVALSI ma è aperto anche a tutti/e i/le docenti di Scuola Primaria\, Secondaria I e II grado. \n\n\n\nL’edizione prevede un numero massimo di 600 partecipanti\, così ripartiti: \n\n\n\n\n500 posti per docenti di ruolo che possono accedere alla piattaforma SOFIA (https://sofia.istruzione.it – iscrizioni attive dal 12 gennaio 2026);\n\n\n\n100 posti complessivi per docenti della Valle d’Aosta\, delle province autonome di Bolzano e Trento e degli istituti scolastici paritari di tutta Italia.\n\n\n\n\n\n\n\n\nStruttura del corso\n\n\n\nIl corso prevede: lezioni in diretta (modalità webinar)\, momenti di studio e di approfondimento individuale\, una fase finale di lavoro personale. \n\n\n\n\n\n\n\nMateriali di studio e di approfondimento\n\n\n\nSlide delle lezioni\, documenti in formato .pdf di approfondimento\, sitografia e bibliografia sintetica di riferimento.Importante: Non verranno in nessun caso fornite le registrazioni delle lezioni. \n\n\n\n\n\n\n\nIscrizioni per i/le docenti di ruolo che possono accedere alla piattaforma SOFIA\n\n\n\nÈ possibile iscriversi gratuitamente al corso unicamente per mezzo della piattaforma SOFIA (codice 81440)\, se abilitati al suo utilizzo\, da lunedì 12 a venerdì 16 gennaio 2026. Le iscrizioni si chiuderanno anticipatamente in automatico in caso di esaurimento dei posti disponibili (500 partecipanti). \n\n\n\nImportante – Dato il corso a numero chiuso\, si invita ad iscriversi solo se realmente motivati/e a parteciparvi interamente e a cancellare l’iscrizione qualora consapevoli di sopraggiunti imprevisti. \n\n\n\nPoiché il programma e i contenuti di questa edizione coincidono con quelli delle edizioni precedenti\, si invita a non iscriversi nuovamente se si è già frequentato il corso formativo. In tal caso\, al fine di garantire a tutte le persone interessate la possibilità di partecipare ad almeno un’edizione\, l’iscrizione verrà annullata. \n\n\n\nNota Bene: \n\n\n\n\nPrima di iscriversi\, si invita ad accertarsi che la casella di posta elettronica indicata nella piattaforma SOFIA sia ancora attiva e che venga spesso controllata; se così non fosse\, si consiglia innanzitutto di cambiarla (altrimenti non sarà possibile ricevere le comunicazioni) e\, solo in seguito\, iscriversi all’edizione scelta.\n\n\n\nNei giorni successivi alla chiusura delle iscrizioni e immediatamente precedenti all’inizio del corso\, si invita a controllare l’indirizzo di posta indicato nella piattaforma SOFIA per ricevere informazioni più dettagliate sull’inizio del corso formativo.\n\n\n\nLa piattaforma SOFIA\, per decisione ministeriale\, non permette l’iscrizione ai/alle docenti non di ruolo o in anno di prova\, ai dirigenti scolastici e alle dirigenti scolastiche\, ai/alle docenti o ai coordinatori didattici e alle coordinatrici didattiche di scuole paritarie\, al personale della scuola del Trentino Alto-Adige e della Valle d’Aosta.\n\n\n\nNel caso di raggiungimento del numero massimo di partecipanti\, si invita a controllare il corso su SOFIA verificando se\, in caso di rinuncia di qualche iscritto/iscritta\, la piattaforma fornisse la possibilità di iscriversi per “coprire” i posti lasciati vacanti. Poiché non è possibile accettare iscrizioni al di fuori della modalità prevista in SOFIA\, si chiede di non scrivere e-mail per essere informati o messi in lista d’attesa.\n\n\n\nEventuali nuove edizioni saranno rese note e pubblicizzate tramite e-mail alle scuole e sui canali ufficiali INVALSI.\n\n\n\n\n\n\n\n\nIscrizioni per i/le docenti della Valle d’Aosta\, delle province autonome di Bolzano e Trento e degli istituti scolastici paritari di tutta Italia\n\n\n\nÈ possibile pre-iscriversi gratuitamente al corso dalle ore 12.00 di lunedì 12 gennaio 2026 alle ore 12.00 di venerdì 16 gennaio 2026 (unicamente per mezzo del seguente link: LINK). \n\n\n\nLa pre-iscrizione a questo link è valida solamente per i/le docenti della Valle d’Aosta\, delle province autonome di Bolzano e Trento e degli istituti scolastici paritari di tutta Italia.Saranno accettate le prime 100 pre-iscrizioni regolarmente effettuate (ossia con candidatura compilata interamente e in modo corretto). \n\n\n\nEntro mercoledì 21 gennaio 2026 si riceverà una e-mail in cui verrà comunicata l’effettiva iscrizione (e si riceveranno informazioni più dettagliate sull’inizio del corso formativo e i link di accesso alla piattaforma Zoom) oppure l’esclusione. \n\n\n\nNota Bene: \n\n\n\n\nNell’atto della pre-iscrizione è obbligatorio inserire anche il codice meccanografico dell’istituto scolastico in cui si è in servizio. In caso non lo si conosca\, lo si può solitamente trovare sul sito del proprio istituto scolastico oppure cercare tramite il portale “Scuola in Chiaro” (link: https://cercalatuascuola.istruzione.it/cercalatuascuola/). Se il codice meccanografico dovesse essere assente o errato\, la pre-iscrizione non sarà considerata valida e\, quindi\, verrà rifiutata.\n\n\n\nDato il corso a numero chiuso\, si invita ad iscriversi solo se realmente motivati/motivate a parteciparvi interamente e a richiederne la disiscrizione (prima dell’inizio del corso) qualora consapevoli di sopraggiunti imprevisti inviando una e-mail a: formazione.area2@invalsi.it.\n\n\n\nEventuali nuove edizioni saranno rese note e pubblicizzate tramite e-mail alle scuole e sul sito INVALSI; pertanto\, si chiede di non scrivere e-mail per essere informati o messi in lista d’attesa.\n\n\n\n\n\n\n\n\nFaculty\n\n\n\nResponsabile del Progetto Formativo: Patrizia Falzetti \n\n\n\nCoordinatore del corso: Paolo Barabanti \n\n\n\nDocenti del corso:– Paolo Barabanti\, Ricercatore INVALSI– Patrizia Falzetti\, Dirigente Tecnologa INVALSI– Michela Freddano\, Prima Ricercatrice INVALSI– Paola Giangiacomo\, Prima Ricercatrice INVALSI– Lorenzo Maraviglia\, Ricercatore INVALSI– Michele Marsili\, Funzionario Statistico INVALSI– Luca Pieroni\, Docente di Scuola Secondaria II grado IIS Laeng-Meucci– Stefania Pozio\, Prima Ricercatrice in quiescenza \n\n\n\n\n\n\n\nContatti\n\n\n\nPer informazioni scrivere a indirizzo e-mail formazione.area2@invalsi.it. \n\n\n\n\n\n\n\nAllegati\n\n\n\nProgramma edizione 14Download
URL:https://serviziostatistico.invalsi.it/en/evento/edizione-14-i-dati-invalsi-per-un-uso-informativo-formativo-e-per-il-miglioramento/
CATEGORIES:Corso di Formazione
ATTACH;FMTTYPE=image/png:https://serviziostatistico.invalsi.it/wp-content/uploads/2025/09/SOFIA_locandina-edizione-14.png
END:VEVENT
END:VCALENDAR